BEGIN:VCALENDAR
VERSION:2.0
PRODID:-//Chicago Council of Lawyers - ECPv6.15.20//NONSGML v1.0//EN
CALSCALE:GREGORIAN
METHOD:PUBLISH
X-ORIGINAL-URL:https://chicagocouncil.org
X-WR-CALDESC:Events for Chicago Council of Lawyers
REFRESH-INTERVAL;VALUE=DURATION:PT1H
X-Robots-Tag:noindex
X-PUBLISHED-TTL:PT1H
BEGIN:VTIMEZONE
TZID:America/Chicago
BEGIN:DAYLIGHT
TZOFFSETFROM:-0600
TZOFFSETTO:-0500
TZNAME:CDT
DTSTART:20230312T080000
END:DAYLIGHT
BEGIN:STANDARD
TZOFFSETFROM:-0500
TZOFFSETTO:-0600
TZNAME:CST
DTSTART:20231105T070000
END:STANDARD
BEGIN:DAYLIGHT
TZOFFSETFROM:-0600
TZOFFSETTO:-0500
TZNAME:CDT
DTSTART:20240310T080000
END:DAYLIGHT
BEGIN:STANDARD
TZOFFSETFROM:-0500
TZOFFSETTO:-0600
TZNAME:CST
DTSTART:20241103T070000
END:STANDARD
BEGIN:DAYLIGHT
TZOFFSETFROM:-0600
TZOFFSETTO:-0500
TZNAME:CDT
DTSTART:20250309T080000
END:DAYLIGHT
BEGIN:STANDARD
TZOFFSETFROM:-0500
TZOFFSETTO:-0600
TZNAME:CST
DTSTART:20251102T070000
END:STANDARD
END:VTIMEZONE
BEGIN:VEVENT
DTSTART;TZID=America/Chicago:20241028T123000
DTEND;TZID=America/Chicago:20241028T150000
DTSTAMP:20260425T095728
CREATED:20240924T211642Z
LAST-MODIFIED:20241016T000726Z
UID:4477-1730118600-1730127600@chicagocouncil.org
SUMMARY:October 28th\, 2024: Annual Meeting of the Chicago Council of Lawyers
DESCRIPTION:We hope you will join us at our annual members’ meeting on Monday\, October 28th\, 2024\, at 5:30 pm!\n \nThis free informal event will include remarks from current and future Board of Governors leadership\, as well as a presentation from Chicago Council of Lawyers staff. We’ll have plenty of opportunity to chat about the Council’s work and discuss how to become more involved with programming or leadership. \nRSVP today: https://secure.chicagoappleseed.org/np/clients/caffj/eventRegistration.jsp?forwardedFromSecureDomain=1&event=138
URL:https://chicagocouncil.org/event/october-28th-2024-annual-meeting-of-the-chicago-council-of-lawyers/
LOCATION:Loevy & Loevy\, 311 N Aberdeen Street\, Chicago\, IL
CATEGORIES:Annual Meeting
END:VEVENT
END:VCALENDAR