BEGIN:VCALENDAR
VERSION:2.0
PRODID:-//Chicago Council of Lawyers - ECPv6.15.20//NONSGML v1.0//EN
CALSCALE:GREGORIAN
METHOD:PUBLISH
X-WR-CALNAME:Chicago Council of Lawyers
X-ORIGINAL-URL:https://chicagocouncil.org/staging/1601
X-WR-CALDESC:Events for Chicago Council of Lawyers
REFRESH-INTERVAL;VALUE=DURATION:PT1H
X-Robots-Tag:noindex
X-PUBLISHED-TTL:PT1H
BEGIN:VTIMEZONE
TZID:America/Chicago
BEGIN:DAYLIGHT
TZOFFSETFROM:-0600
TZOFFSETTO:-0500
TZNAME:CDT
DTSTART:20250309T080000
END:DAYLIGHT
BEGIN:STANDARD
TZOFFSETFROM:-0500
TZOFFSETTO:-0600
TZNAME:CST
DTSTART:20251102T070000
END:STANDARD
BEGIN:DAYLIGHT
TZOFFSETFROM:-0600
TZOFFSETTO:-0500
TZNAME:CDT
DTSTART:20260308T080000
END:DAYLIGHT
BEGIN:STANDARD
TZOFFSETFROM:-0500
TZOFFSETTO:-0600
TZNAME:CST
DTSTART:20261101T070000
END:STANDARD
BEGIN:DAYLIGHT
TZOFFSETFROM:-0600
TZOFFSETTO:-0500
TZNAME:CDT
DTSTART:20270314T080000
END:DAYLIGHT
BEGIN:STANDARD
TZOFFSETFROM:-0500
TZOFFSETTO:-0600
TZNAME:CST
DTSTART:20271107T070000
END:STANDARD
END:VTIMEZONE
BEGIN:VEVENT
DTSTART;TZID=America/Chicago:20260217T130000
DTEND;TZID=America/Chicago:20260217T140000
DTSTAMP:20260423T184411
CREATED:20260211T203511Z
LAST-MODIFIED:20260211T203511Z
UID:5309-1771333200-1771336800@chicagocouncil.org
SUMMARY:Civil Disagreements: Unitary Executive Theory
DESCRIPTION:The Unitary Executive Theory: Legitimate Constitutional Theory or Path to Dictatorship? \nClick here to register. \n \nArticle II of the U. S. Constitution provides in part that the executive power of the United States government “shall be vested” in “a President” of the United States. \nOn its face\, this provision would seem to give the president ultimate control over the entire Executive branch\, including the power to hire and fire its members for any reason or no reason at all. \nYet one of the hallmarks of the federal government in the past roughly one hundred years has been the growth with the Executive Branch of the administrative state\, including administrative law judges\, inspectors general\, the civil service\, and various commissions. \nTo what extent does the Constitution give the President absolute authority over such agencies and commissions\, and to what extent do the Congress and the Supreme Court have power to reign the President in? \nThis program is part of Civil Disagreements\, a debate and discussion series of timely\, contentious topics sponsored by the American Bar Association Division for Public Education\, American Constitution Society Chicago and Austin Chapters\, Federalist Society Chicago Chapter\, Reform for Illinois\, Courts Matter Illinois\, and the Chicago Council of Lawyers. \n1 hour of CLE will be available to Illinois lawyers from Reform for Illinois. Program materials are available by clicking here.
URL:https://chicagocouncil.org/staging/1601/event/civil-disagreements-unitary-executive-theory/
END:VEVENT
END:VCALENDAR