BEGIN:VCALENDAR
VERSION:2.0
PRODID:-//Chicago Council of Lawyers - ECPv6.15.20//NONSGML v1.0//EN
CALSCALE:GREGORIAN
METHOD:PUBLISH
X-WR-CALNAME:Chicago Council of Lawyers
X-ORIGINAL-URL:https://chicagocouncil.org/staging/1601
X-WR-CALDESC:Events for Chicago Council of Lawyers
REFRESH-INTERVAL;VALUE=DURATION:PT1H
X-Robots-Tag:noindex
X-PUBLISHED-TTL:PT1H
BEGIN:VTIMEZONE
TZID:America/Chicago
BEGIN:DAYLIGHT
TZOFFSETFROM:-0600
TZOFFSETTO:-0500
TZNAME:CDT
DTSTART:20250309T080000
END:DAYLIGHT
BEGIN:STANDARD
TZOFFSETFROM:-0500
TZOFFSETTO:-0600
TZNAME:CST
DTSTART:20251102T070000
END:STANDARD
BEGIN:DAYLIGHT
TZOFFSETFROM:-0600
TZOFFSETTO:-0500
TZNAME:CDT
DTSTART:20260308T080000
END:DAYLIGHT
BEGIN:STANDARD
TZOFFSETFROM:-0500
TZOFFSETTO:-0600
TZNAME:CST
DTSTART:20261101T070000
END:STANDARD
BEGIN:DAYLIGHT
TZOFFSETFROM:-0600
TZOFFSETTO:-0500
TZNAME:CDT
DTSTART:20270314T080000
END:DAYLIGHT
BEGIN:STANDARD
TZOFFSETFROM:-0500
TZOFFSETTO:-0600
TZNAME:CST
DTSTART:20271107T070000
END:STANDARD
END:VTIMEZONE
BEGIN:VEVENT
DTSTART;TZID=America/Chicago:20260220T180000
DTEND;TZID=America/Chicago:20260220T210000
DTSTAMP:20260423T184333
CREATED:20260212T214245Z
LAST-MODIFIED:20260219T172738Z
UID:5347-1771610400-1771621200@chicagocouncil.org
SUMMARY:Attorneys As Public Citizens
DESCRIPTION:The Chicago Council of Lawyers is partnering up with the Hispanic Lawyers Association (HLAI) for a Public Citizen Training on February 20\, 2026\, at UIC Law from 6 – 9 PM. \nThis event will be an opportunity for attorneys to learn how they can join a network of rapid response attorneys. \nThe training will be grounded in the Rules of Professional Responsibility and is pending CLE credit. It will focus on the role of lawyers as public citizens and our unique responsibility for the quality of justice in our communities. \nThe presentation will provide information on how attorneys fulfill the role to administer justice\, the role of a public citizen\, de-escalation training for attorneys supporting events or rapid response efforts\, street medic information\, Know Your Rights information\, conducting risk assessments\, and methods of documentation. We will discuss tools that build community and build public relationships that promote the fair administration of justice. We will use the framework that guides non-violent advocacy and community building. \nFood and refreshments will be provided. Individual tickets are free and must be reserved by clicking here.
URL:https://chicagocouncil.org/staging/1601/event/attorneys-as-public-citizens/
LOCATION:University of Illinois Chicago\, School of Law\, 300 S State Street\, Chicago\, IL\, 60604\, United States
ATTACH;FMTTYPE=image/png:https://chicagocouncil.org/staging/1601/wp-content/uploads/2026/02/Attorneys-as-public-citizens.png
END:VEVENT
END:VCALENDAR