BEGIN:VCALENDAR
VERSION:2.0
PRODID:-//Chicago Council of Lawyers - ECPv6.15.20//NONSGML v1.0//EN
CALSCALE:GREGORIAN
METHOD:PUBLISH
X-WR-CALNAME:Chicago Council of Lawyers
X-ORIGINAL-URL:https://chicagocouncil.org/staging/1601
X-WR-CALDESC:Events for Chicago Council of Lawyers
REFRESH-INTERVAL;VALUE=DURATION:PT1H
X-Robots-Tag:noindex
X-PUBLISHED-TTL:PT1H
BEGIN:VTIMEZONE
TZID:America/Chicago
BEGIN:DAYLIGHT
TZOFFSETFROM:-0600
TZOFFSETTO:-0500
TZNAME:CDT
DTSTART:20250309T080000
END:DAYLIGHT
BEGIN:STANDARD
TZOFFSETFROM:-0500
TZOFFSETTO:-0600
TZNAME:CST
DTSTART:20251102T070000
END:STANDARD
BEGIN:DAYLIGHT
TZOFFSETFROM:-0600
TZOFFSETTO:-0500
TZNAME:CDT
DTSTART:20260308T080000
END:DAYLIGHT
BEGIN:STANDARD
TZOFFSETFROM:-0500
TZOFFSETTO:-0600
TZNAME:CST
DTSTART:20261101T070000
END:STANDARD
BEGIN:DAYLIGHT
TZOFFSETFROM:-0600
TZOFFSETTO:-0500
TZNAME:CDT
DTSTART:20270314T080000
END:DAYLIGHT
BEGIN:STANDARD
TZOFFSETFROM:-0500
TZOFFSETTO:-0600
TZNAME:CST
DTSTART:20271107T070000
END:STANDARD
END:VTIMEZONE
BEGIN:VEVENT
DTSTART;VALUE=DATE:20260302
DTEND;VALUE=DATE:20260307
DTSTAMP:20260423T170558
CREATED:20260223T203933Z
LAST-MODIFIED:20260225T045304Z
UID:5657-1772409600-1772841599@chicagocouncil.org
SUMMARY:National Lawyers Guild - Week of Abolition 2026: "Abolish ICE"
DESCRIPTION:The National Lawyers Guild (NLG) will host its annual Week of Abolition from March 2–6\, 2026\, themed “Abolish ICE.” This week of programming includes educational events\, advocacy initiatives\, and community engagement focused on immigration enforcement policy\, detention practices\, and broader abolitionist legal frameworks. \nThis event may be of interest to Chicago Council of Lawyers members who follow developments in immigration law\, detention policy\, and federal enforcement practices. \nFor more information and a schedule of events\, visit:\nhttps://www.nlg.org/woa/
URL:https://chicagocouncil.org/staging/1601/event/national-lawyers-guild-week-of-abolition-2026-abolish-ice/
ATTACH;FMTTYPE=image/jpeg:https://chicagocouncil.org/staging/1601/wp-content/uploads/2026/02/NLG-Abolish-Ice-Event.jpg
END:VEVENT
END:VCALENDAR