BEGIN:VCALENDAR
VERSION:2.0
PRODID:-//Chicago Council of Lawyers - ECPv6.15.20//NONSGML v1.0//EN
CALSCALE:GREGORIAN
METHOD:PUBLISH
X-ORIGINAL-URL:https://chicagocouncil.org/staging/1601
X-WR-CALDESC:Events for Chicago Council of Lawyers
REFRESH-INTERVAL;VALUE=DURATION:PT1H
X-Robots-Tag:noindex
X-PUBLISHED-TTL:PT1H
BEGIN:VTIMEZONE
TZID:America/Chicago
BEGIN:DAYLIGHT
TZOFFSETFROM:-0600
TZOFFSETTO:-0500
TZNAME:CDT
DTSTART:20250309T080000
END:DAYLIGHT
BEGIN:STANDARD
TZOFFSETFROM:-0500
TZOFFSETTO:-0600
TZNAME:CST
DTSTART:20251102T070000
END:STANDARD
BEGIN:DAYLIGHT
TZOFFSETFROM:-0600
TZOFFSETTO:-0500
TZNAME:CDT
DTSTART:20260308T080000
END:DAYLIGHT
BEGIN:STANDARD
TZOFFSETFROM:-0500
TZOFFSETTO:-0600
TZNAME:CST
DTSTART:20261101T070000
END:STANDARD
BEGIN:DAYLIGHT
TZOFFSETFROM:-0600
TZOFFSETTO:-0500
TZNAME:CDT
DTSTART:20270314T080000
END:DAYLIGHT
BEGIN:STANDARD
TZOFFSETFROM:-0500
TZOFFSETTO:-0600
TZNAME:CST
DTSTART:20271107T070000
END:STANDARD
END:VTIMEZONE
BEGIN:VEVENT
DTSTART;TZID=America/Chicago:20260313T120000
DTEND;TZID=America/Chicago:20260313T131500
DTSTAMP:20260423T170346
CREATED:20260219T171912Z
LAST-MODIFIED:20260219T173505Z
UID:5586-1773403200-1773407700@chicagocouncil.org
SUMMARY:Civil Liberties Committee Meeting
DESCRIPTION:The Civil Liberties Committee meets monthly on the second Friday of every month from 12 pm – 1:15 pm CT to address current civil liberties issues ranging from police accountability in Chicago to the Administration’s anti-immigration efforts\, to trans rights\, and everything in between. The committee researches\, prepares\, and issues statements advocating for reform. \nEmail ccl@chicagocouncil.org about your interest in joining this committee so you can be informed about meeting links\, agendas\, updates\, and opportunities. \nWe welcome your active engagement!
URL:https://chicagocouncil.org/staging/1601/event/civil-liberties-committee-meeting/
ATTACH;FMTTYPE=image/png:https://chicagocouncil.org/staging/1601/wp-content/uploads/2026/02/Civil-Liberties-Meeting.png
END:VEVENT
END:VCALENDAR