BEGIN:VCALENDAR
VERSION:2.0
PRODID:-//Chicago Council of Lawyers - ECPv6.15.20//NONSGML v1.0//EN
CALSCALE:GREGORIAN
METHOD:PUBLISH
X-WR-CALNAME:Chicago Council of Lawyers
X-ORIGINAL-URL:https://chicagocouncil.org/staging/1601
X-WR-CALDESC:Events for Chicago Council of Lawyers
REFRESH-INTERVAL;VALUE=DURATION:PT1H
X-Robots-Tag:noindex
X-PUBLISHED-TTL:PT1H
BEGIN:VTIMEZONE
TZID:America/Chicago
BEGIN:DAYLIGHT
TZOFFSETFROM:-0600
TZOFFSETTO:-0500
TZNAME:CDT
DTSTART:20250309T080000
END:DAYLIGHT
BEGIN:STANDARD
TZOFFSETFROM:-0500
TZOFFSETTO:-0600
TZNAME:CST
DTSTART:20251102T070000
END:STANDARD
BEGIN:DAYLIGHT
TZOFFSETFROM:-0600
TZOFFSETTO:-0500
TZNAME:CDT
DTSTART:20260308T080000
END:DAYLIGHT
BEGIN:STANDARD
TZOFFSETFROM:-0500
TZOFFSETTO:-0600
TZNAME:CST
DTSTART:20261101T070000
END:STANDARD
BEGIN:DAYLIGHT
TZOFFSETFROM:-0600
TZOFFSETTO:-0500
TZNAME:CDT
DTSTART:20270314T080000
END:DAYLIGHT
BEGIN:STANDARD
TZOFFSETFROM:-0500
TZOFFSETTO:-0600
TZNAME:CST
DTSTART:20271107T070000
END:STANDARD
END:VTIMEZONE
BEGIN:VEVENT
DTSTART;TZID=America/Chicago:20260409T100000
DTEND;TZID=America/Chicago:20260409T120000
DTSTAMP:20260423T153115
CREATED:20260225T045158Z
LAST-MODIFIED:20260225T045158Z
UID:5765-1775728800-1775736000@chicagocouncil.org
SUMMARY:Illinois Supreme Court Public Hearing
DESCRIPTION:The Illinois Supreme Court Rules Committee is seeking public comments on three proposals that will be considered at a public hearing on April 9\, 2026\, in Chicago. \nWritten comments should be submitted no later than April 2 to RulesCommittee@illinoiscourts.gov or via mail to: \nCommittee Secretary\nSupreme Court Rules Committee\n222 N. LaSalle St.\, 13th Floor\nChicago\, IL\, 60601 \nThose interested in being scheduled to testify at the public hearing should send an email to the Rules Committee Secretary by April 2\, 2026. \nThe hearing will be livestreamed. \nClick here to see the official release from the Supreme Court of Illinois.
URL:https://chicagocouncil.org/staging/1601/event/illinois-supreme-court-public-hearing/
ATTACH;FMTTYPE=image/webp:https://chicagocouncil.org/staging/1601/wp-content/uploads/2026/02/IL-Supreme-Court-February-24-2026.webp
END:VEVENT
END:VCALENDAR