BEGIN:VCALENDAR
VERSION:2.0
PRODID:-//Chicago Council of Lawyers - ECPv6.15.20//NONSGML v1.0//EN
CALSCALE:GREGORIAN
METHOD:PUBLISH
X-WR-CALNAME:Chicago Council of Lawyers
X-ORIGINAL-URL:https://chicagocouncil.org/staging/1601
X-WR-CALDESC:Events for Chicago Council of Lawyers
REFRESH-INTERVAL;VALUE=DURATION:PT1H
X-Robots-Tag:noindex
X-PUBLISHED-TTL:PT1H
BEGIN:VTIMEZONE
TZID:America/Chicago
BEGIN:DAYLIGHT
TZOFFSETFROM:-0600
TZOFFSETTO:-0500
TZNAME:CDT
DTSTART:20250309T080000
END:DAYLIGHT
BEGIN:STANDARD
TZOFFSETFROM:-0500
TZOFFSETTO:-0600
TZNAME:CST
DTSTART:20251102T070000
END:STANDARD
BEGIN:DAYLIGHT
TZOFFSETFROM:-0600
TZOFFSETTO:-0500
TZNAME:CDT
DTSTART:20260308T080000
END:DAYLIGHT
BEGIN:STANDARD
TZOFFSETFROM:-0500
TZOFFSETTO:-0600
TZNAME:CST
DTSTART:20261101T070000
END:STANDARD
BEGIN:DAYLIGHT
TZOFFSETFROM:-0600
TZOFFSETTO:-0500
TZNAME:CDT
DTSTART:20270314T080000
END:DAYLIGHT
BEGIN:STANDARD
TZOFFSETFROM:-0500
TZOFFSETTO:-0600
TZNAME:CST
DTSTART:20271107T070000
END:STANDARD
END:VTIMEZONE
BEGIN:VEVENT
DTSTART;TZID=America/Chicago:20260508T120000
DTEND;TZID=America/Chicago:20260508T131500
DTSTAMP:20260423T122348
CREATED:20260223T200041Z
LAST-MODIFIED:20260223T200041Z
UID:5641-1778241600-1778246100@chicagocouncil.org
SUMMARY:Civil Liberties Committee Meeting
DESCRIPTION:The Civil Liberties Committee meets monthly on the second Friday of every month from 12 pm – 1:15 pm CT to address current civil liberties issues ranging from police accountability in Chicago to the Administration’s anti-immigration efforts\, to trans rights\, and everything in between. The committee researches\, prepares\, and issues statements advocating for reform. \nEmail ccl@chicagocouncil.org about your interest in joining this committee so you can be informed about meeting links\, agendas\, updates\, and opportunities. \nWe welcome your active engagement!
URL:https://chicagocouncil.org/staging/1601/event/civil-liberties-committee-meeting-may-2026/
ATTACH;FMTTYPE=image/webp:https://chicagocouncil.org/staging/1601/wp-content/uploads/2026/02/Civil-Liberties-Meeting.webp
END:VEVENT
BEGIN:VEVENT
DTSTART;TZID=America/Chicago:20260612T120000
DTEND;TZID=America/Chicago:20260612T131500
DTSTAMP:20260423T122348
CREATED:20260223T200153Z
LAST-MODIFIED:20260223T200153Z
UID:5643-1781265600-1781270100@chicagocouncil.org
SUMMARY:Civil Liberties Committee Meeting
DESCRIPTION:The Civil Liberties Committee meets monthly on the second Friday of every month from 12 pm – 1:15 pm CT to address current civil liberties issues ranging from police accountability in Chicago to the Administration’s anti-immigration efforts\, to trans rights\, and everything in between. The committee researches\, prepares\, and issues statements advocating for reform. \nEmail ccl@chicagocouncil.org about your interest in joining this committee so you can be informed about meeting links\, agendas\, updates\, and opportunities. \nWe welcome your active engagement!
URL:https://chicagocouncil.org/staging/1601/event/civil-liberties-committee-meeting-june-2026/
ATTACH;FMTTYPE=image/webp:https://chicagocouncil.org/staging/1601/wp-content/uploads/2026/02/Civil-Liberties-Meeting.webp
END:VEVENT
BEGIN:VEVENT
DTSTART;TZID=America/Chicago:20260710T120000
DTEND;TZID=America/Chicago:20260710T131500
DTSTAMP:20260423T122348
CREATED:20260223T200325Z
LAST-MODIFIED:20260223T200325Z
UID:5645-1783684800-1783689300@chicagocouncil.org
SUMMARY:Civil Liberties Committee Meeting
DESCRIPTION:The Civil Liberties Committee meets monthly on the second Friday of every month from 12 pm – 1:15 pm CT to address current civil liberties issues ranging from police accountability in Chicago to the Administration’s anti-immigration efforts\, to trans rights\, and everything in between. The committee researches\, prepares\, and issues statements advocating for reform. \nEmail ccl@chicagocouncil.org about your interest in joining this committee so you can be informed about meeting links\, agendas\, updates\, and opportunities. \nWe welcome your active engagement!
URL:https://chicagocouncil.org/staging/1601/event/civil-liberties-committee-meeting-july-2026/
ATTACH;FMTTYPE=image/webp:https://chicagocouncil.org/staging/1601/wp-content/uploads/2026/02/Civil-Liberties-Meeting.webp
END:VEVENT
BEGIN:VEVENT
DTSTART;TZID=America/Chicago:20260814T120000
DTEND;TZID=America/Chicago:20260814T131500
DTSTAMP:20260423T122348
CREATED:20260223T200438Z
LAST-MODIFIED:20260223T200438Z
UID:5647-1786708800-1786713300@chicagocouncil.org
SUMMARY:Civil Liberties Committee Meeting
DESCRIPTION:The Civil Liberties Committee meets monthly on the second Friday of every month from 12 pm – 1:15 pm CT to address current civil liberties issues ranging from police accountability in Chicago to the Administration’s anti-immigration efforts\, to trans rights\, and everything in between. The committee researches\, prepares\, and issues statements advocating for reform. \nEmail ccl@chicagocouncil.org about your interest in joining this committee so you can be informed about meeting links\, agendas\, updates\, and opportunities. \nWe welcome your active engagement!
URL:https://chicagocouncil.org/staging/1601/event/civil-liberties-committee-meeting-august-2026/
ATTACH;FMTTYPE=image/webp:https://chicagocouncil.org/staging/1601/wp-content/uploads/2026/02/Civil-Liberties-Meeting.webp
END:VEVENT
BEGIN:VEVENT
DTSTART;TZID=America/Chicago:20260911T120000
DTEND;TZID=America/Chicago:20260911T131500
DTSTAMP:20260423T122348
CREATED:20260223T200556Z
LAST-MODIFIED:20260223T200556Z
UID:5649-1789128000-1789132500@chicagocouncil.org
SUMMARY:Civil Liberties Committee Meeting
DESCRIPTION:The Civil Liberties Committee meets monthly on the second Friday of every month from 12 pm – 1:15 pm CT to address current civil liberties issues ranging from police accountability in Chicago to the Administration’s anti-immigration efforts\, to trans rights\, and everything in between. The committee researches\, prepares\, and issues statements advocating for reform. \nEmail ccl@chicagocouncil.org about your interest in joining this committee so you can be informed about meeting links\, agendas\, updates\, and opportunities. \nWe welcome your active engagement!
URL:https://chicagocouncil.org/staging/1601/event/civil-liberties-committee-meeting-september-2026/
ATTACH;FMTTYPE=image/webp:https://chicagocouncil.org/staging/1601/wp-content/uploads/2026/02/Civil-Liberties-Meeting.webp
END:VEVENT
BEGIN:VEVENT
DTSTART;TZID=America/Chicago:20261009T120000
DTEND;TZID=America/Chicago:20261009T131500
DTSTAMP:20260423T122348
CREATED:20260223T200718Z
LAST-MODIFIED:20260223T200718Z
UID:5651-1791547200-1791551700@chicagocouncil.org
SUMMARY:Civil Liberties Committee Meeting
DESCRIPTION:The Civil Liberties Committee meets monthly on the second Friday of every month from 12 pm – 1:15 pm CT to address current civil liberties issues ranging from police accountability in Chicago to the Administration’s anti-immigration efforts\, to trans rights\, and everything in between. The committee researches\, prepares\, and issues statements advocating for reform. \nEmail ccl@chicagocouncil.org about your interest in joining this committee so you can be informed about meeting links\, agendas\, updates\, and opportunities. \nWe welcome your active engagement!
URL:https://chicagocouncil.org/staging/1601/event/civil-liberties-committee-meeting-october-2026/
ATTACH;FMTTYPE=image/webp:https://chicagocouncil.org/staging/1601/wp-content/uploads/2026/02/Civil-Liberties-Meeting.webp
END:VEVENT
BEGIN:VEVENT
DTSTART;TZID=America/Chicago:20261113T120000
DTEND;TZID=America/Chicago:20261113T131500
DTSTAMP:20260423T122348
CREATED:20260223T200829Z
LAST-MODIFIED:20260223T200829Z
UID:5653-1794571200-1794575700@chicagocouncil.org
SUMMARY:Civil Liberties Committee Meeting
DESCRIPTION:The Civil Liberties Committee meets monthly on the second Friday of every month from 12 pm – 1:15 pm CT to address current civil liberties issues ranging from police accountability in Chicago to the Administration’s anti-immigration efforts\, to trans rights\, and everything in between. The committee researches\, prepares\, and issues statements advocating for reform. \nEmail ccl@chicagocouncil.org about your interest in joining this committee so you can be informed about meeting links\, agendas\, updates\, and opportunities. \nWe welcome your active engagement!
URL:https://chicagocouncil.org/staging/1601/event/civil-liberties-committee-meeting-november-20026/
ATTACH;FMTTYPE=image/webp:https://chicagocouncil.org/staging/1601/wp-content/uploads/2026/02/Civil-Liberties-Meeting.webp
END:VEVENT
BEGIN:VEVENT
DTSTART;TZID=America/Chicago:20261211T120000
DTEND;TZID=America/Chicago:20261211T131500
DTSTAMP:20260423T122348
CREATED:20260223T200943Z
LAST-MODIFIED:20260223T200943Z
UID:5655-1796990400-1796994900@chicagocouncil.org
SUMMARY:Civil Liberties Committee Meeting
DESCRIPTION:The Civil Liberties Committee meets monthly on the second Friday of every month from 12 pm – 1:15 pm CT to address current civil liberties issues ranging from police accountability in Chicago to the Administration’s anti-immigration efforts\, to trans rights\, and everything in between. The committee researches\, prepares\, and issues statements advocating for reform. \nEmail ccl@chicagocouncil.org about your interest in joining this committee so you can be informed about meeting links\, agendas\, updates\, and opportunities. \nWe welcome your active engagement!
URL:https://chicagocouncil.org/staging/1601/event/civil-liberties-committee-meeting-december-2026/
ATTACH;FMTTYPE=image/webp:https://chicagocouncil.org/staging/1601/wp-content/uploads/2026/02/Civil-Liberties-Meeting.webp
END:VEVENT
END:VCALENDAR