BEGIN:VCALENDAR
VERSION:2.0
PRODID:-//Chicago Council of Lawyers - ECPv6.15.20//NONSGML v1.0//EN
CALSCALE:GREGORIAN
METHOD:PUBLISH
X-WR-CALNAME:Chicago Council of Lawyers
X-ORIGINAL-URL:https://chicagocouncil.org/staging/1601
X-WR-CALDESC:Events for Chicago Council of Lawyers
REFRESH-INTERVAL;VALUE=DURATION:PT1H
X-Robots-Tag:noindex
X-PUBLISHED-TTL:PT1H
BEGIN:VTIMEZONE
TZID:America/Chicago
BEGIN:DAYLIGHT
TZOFFSETFROM:-0600
TZOFFSETTO:-0500
TZNAME:CDT
DTSTART:20220313T080000
END:DAYLIGHT
BEGIN:STANDARD
TZOFFSETFROM:-0500
TZOFFSETTO:-0600
TZNAME:CST
DTSTART:20221106T070000
END:STANDARD
BEGIN:DAYLIGHT
TZOFFSETFROM:-0600
TZOFFSETTO:-0500
TZNAME:CDT
DTSTART:20230312T080000
END:DAYLIGHT
BEGIN:STANDARD
TZOFFSETFROM:-0500
TZOFFSETTO:-0600
TZNAME:CST
DTSTART:20231105T070000
END:STANDARD
BEGIN:DAYLIGHT
TZOFFSETFROM:-0600
TZOFFSETTO:-0500
TZNAME:CDT
DTSTART:20240310T080000
END:DAYLIGHT
BEGIN:STANDARD
TZOFFSETFROM:-0500
TZOFFSETTO:-0600
TZNAME:CST
DTSTART:20241103T070000
END:STANDARD
END:VTIMEZONE
BEGIN:VEVENT
DTSTART;TZID=America/Chicago:20230720T070000
DTEND;TZID=America/Chicago:20230720T090000
DTSTAMP:20260425T213324
CREATED:20230705T201954Z
LAST-MODIFIED:20230717T212759Z
UID:4247-1689836400-1689843600@chicagocouncil.org
SUMMARY:July 20: Annual Police Accountability Forum
DESCRIPTION:Join the Chicago Council of Lawyers and the American Constitution Society – Chicago Lawyers Chapter on Thursday\, July 20\, 2023 for our Annual Police Accountability Forum\, streaming online at CollaborationForJustice.org. \nWe will discuss the state of policing\, oversight\, and reform in Chicago with Sharon Fairley\, Professor from Practice at the University of Chicago Law School\, as moderator. \nConfirmed speakers include Deborah Witzburg\, Inspector General for the City of Chicago\, Andrea Kersten\, Chief Administrator of the Civilian Office of Police Accountability\, Jamie Kalven of the Invisible Institute\, Remel Terry of the Chicago Community Commission for Public Safety and Accountability\, and Arewa Karen Winters of the District Council in the 15th Police District. \nWhen & Where? July 20 at 12:00 PM \nRegistration? Click here to register! \nAttendees who are lawyers in Illinois are eligible for 1.5 hours of general CLE credit (pending approval) but must register in advance.
URL:https://chicagocouncil.org/staging/1601/event/july-20-annual-police-accountability-forum/
END:VEVENT
END:VCALENDAR