BEGIN:VCALENDAR
VERSION:2.0
PRODID:-//Chicago Council of Lawyers - ECPv6.15.20//NONSGML v1.0//EN
CALSCALE:GREGORIAN
METHOD:PUBLISH
X-ORIGINAL-URL:https://chicagocouncil.org/staging/1601
X-WR-CALDESC:Events for Chicago Council of Lawyers
REFRESH-INTERVAL;VALUE=DURATION:PT1H
X-Robots-Tag:noindex
X-PUBLISHED-TTL:PT1H
BEGIN:VTIMEZONE
TZID:America/Chicago
BEGIN:DAYLIGHT
TZOFFSETFROM:-0600
TZOFFSETTO:-0500
TZNAME:CDT
DTSTART:20220313T080000
END:DAYLIGHT
BEGIN:STANDARD
TZOFFSETFROM:-0500
TZOFFSETTO:-0600
TZNAME:CST
DTSTART:20221106T070000
END:STANDARD
BEGIN:DAYLIGHT
TZOFFSETFROM:-0600
TZOFFSETTO:-0500
TZNAME:CDT
DTSTART:20230312T080000
END:DAYLIGHT
BEGIN:STANDARD
TZOFFSETFROM:-0500
TZOFFSETTO:-0600
TZNAME:CST
DTSTART:20231105T070000
END:STANDARD
BEGIN:DAYLIGHT
TZOFFSETFROM:-0600
TZOFFSETTO:-0500
TZNAME:CDT
DTSTART:20240310T080000
END:DAYLIGHT
BEGIN:STANDARD
TZOFFSETFROM:-0500
TZOFFSETTO:-0600
TZNAME:CST
DTSTART:20241103T070000
END:STANDARD
END:VTIMEZONE
BEGIN:VEVENT
DTSTART;TZID=America/Chicago:20231026T130000
DTEND;TZID=America/Chicago:20231026T160000
DTSTAMP:20260425T160708
CREATED:20230825T205321Z
LAST-MODIFIED:20230825T205321Z
UID:4294-1698325200-1698336000@chicagocouncil.org
SUMMARY:OCTOBER 26\, 2023 | COLLABORATION FOR JUSTICE FOUNDER’S IMPACT FUNDRAISER
DESCRIPTION:Founder’s Impact Fundraiser\nJoin the Collaboration for Justice of Chicago Appleseed Center for Fair Courts and the Chicago Council of Lawyers for our annual fundraiser on on October 26\, 2023\, at the Ivy Room in Chicago (12 East Ohio Street). For this year’s annual celebration\, we will honor the team at Loevy & Loevy with our Commitment to Justice Award and celebrate several influential partners in the Collaboration for Justice’s history with our Founder’s Impact Award. \n\n\n\nClick here to purchase your ticket for the event.\n\n\n\nYour sponsorship supports our work to find anti-racist solutions to systematic systemic injustices and fight for their implementation. Your sponsorship is tax-deductible\, less the cost of dinner for attendees. \n\n\n\nClick here to purchase a sponsorship.
URL:https://chicagocouncil.org/staging/1601/event/october-26-2023-collaboration-for-justice-founders-impact-fundraiser/
LOCATION:Ivy Room\, 12 East Ohio Street\, Chicago\, IL\, 60611
CATEGORIES:Annual Luncheon
ATTACH;FMTTYPE=image/png:https://chicagocouncil.org/staging/1601/wp-content/uploads/2023/08/Oct-2023-Save-the-Date-1.png
END:VEVENT
END:VCALENDAR